BEGIN:VCALENDAR
PRODID:-//Solspace/Calendar//EN
VERSION:2.0
CALSCALE:GREGORIAN
BEGIN:VEVENT
UID:b13a26d7a627bdc412b76cf8de7e8f2f@solspace.com
DTSTAMP:20260420T132829
DTSTART:20230528T100000
DTEND:20230528T110000
SUMMARY:Starting Point
END:VEVENT
BEGIN:VEVENT
UID:f8a2e818a5b5be7509809685cbad7722@solspace.com
DTSTAMP:20260420T132829
DTSTART:20230611T100000
DTEND:20230611T110000
SUMMARY:Starting Point
END:VEVENT
BEGIN:VEVENT
UID:e50b0a24b30c907bc7c271f91d267839@solspace.com
DTSTAMP:20260420T132829
DTSTART:20230625T100000
DTEND:20230625T110000
SUMMARY:Starting Point
END:VEVENT
BEGIN:VEVENT
UID:a9dd763b6c3caac2cb1fce0df6049c46@solspace.com
DTSTAMP:20260420T132829
DTSTART:20230709T100000
DTEND:20230709T110000
SUMMARY:Starting Point
END:VEVENT
BEGIN:VEVENT
UID:c455561fa8084b23e38f2e3cc988b872@solspace.com
DTSTAMP:20260420T132829
DTSTART:20230723T100000
DTEND:20230723T110000
SUMMARY:Starting Point
END:VEVENT
BEGIN:VEVENT
UID:417ba88361b1a577104dbba29568826b@solspace.com
DTSTAMP:20260420T132829
DTSTART:20230813T100000
DTEND:20230813T110000
SUMMARY:Starting Point
END:VEVENT
BEGIN:VEVENT
UID:c7d7518c784d35e7104898a12474e364@solspace.com
DTSTAMP:20260420T132829
DTSTART:20230827T100000
DTEND:20230827T110000
SUMMARY:Starting Point
END:VEVENT
BEGIN:VEVENT
UID:b999b2a814e1cb233339ff52bb1943d9@solspace.com
DTSTAMP:20260420T132829
DTSTART:20230910T100000
DTEND:20230910T110000
SUMMARY:Starting Point
END:VEVENT
BEGIN:VEVENT
UID:864a5246d235ff9aadcea572034d5c55@solspace.com
DTSTAMP:20260420T132829
DTSTART:20230924T100000
DTEND:20230924T110000
SUMMARY:Starting Point
END:VEVENT
BEGIN:VEVENT
UID:d10fde0239b0a9ff17d6fe26077e25cf@solspace.com
DTSTAMP:20260420T132829
DTSTART:20231008T100000
DTEND:20231008T110000
SUMMARY:Starting Point
END:VEVENT
BEGIN:VEVENT
UID:e683cabc2042c0dd91c1b20489407e19@solspace.com
DTSTAMP:20260420T132829
DTSTART:20231112T100000
DTEND:20231112T110000
SUMMARY:Starting Point
END:VEVENT
BEGIN:VEVENT
UID:8ca6b44d5dd2e91a9205942cbf3c0ce7@solspace.com
DTSTAMP:20260420T132829
DTSTART:20231203T100000
DTEND:20231203T110000
SUMMARY:Starting Point
END:VEVENT
BEGIN:VEVENT
UID:c133b219597eecbbf2f7d9f35dd310d6@solspace.com
DTSTAMP:20260420T132829
DTSTART:20231217T100000
DTEND:20231217T110000
SUMMARY:Starting Point
END:VEVENT
BEGIN:VEVENT
UID:1758e68c49eae0392922c9b9bc735569@solspace.com
DTSTAMP:20260420T132829
DTSTART:20230528T123000
DTEND:20230528T133000
SUMMARY:Starting Point
END:VEVENT
BEGIN:VEVENT
UID:f625bfffa4647ec06e1cab70788f5ef0@solspace.com
DTSTAMP:20260420T132829
DTSTART:20230611T123000
DTEND:20230611T133000
SUMMARY:Starting Point
END:VEVENT
BEGIN:VEVENT
UID:4f3aff8287caa342e691bf940afab9cf@solspace.com
DTSTAMP:20260420T132829
DTSTART:20230625T123000
DTEND:20230625T133000
SUMMARY:Starting Point
END:VEVENT
BEGIN:VEVENT
UID:5f6c0124c5a1f252e6a39acfacc0b38b@solspace.com
DTSTAMP:20260420T132829
DTSTART:20230709T123000
DTEND:20230709T133000
SUMMARY:Starting Point
END:VEVENT
BEGIN:VEVENT
UID:5699b2c78d8a5ad9222764434bb256aa@solspace.com
DTSTAMP:20260420T132829
DTSTART:20230723T123000
DTEND:20230723T133000
SUMMARY:Starting Point
END:VEVENT
BEGIN:VEVENT
UID:024e4dda0a64cd492ca70e3de055f44c@solspace.com
DTSTAMP:20260420T132829
DTSTART:20230813T123000
DTEND:20230813T133000
SUMMARY:Starting Point
END:VEVENT
BEGIN:VEVENT
UID:5295200f2bef0aa491f5ed03dce24f84@solspace.com
DTSTAMP:20260420T132829
DTSTART:20230827T123000
DTEND:20230827T133000
SUMMARY:Starting Point
END:VEVENT
BEGIN:VEVENT
UID:be0100317071a9e3f4007c89060f858d@solspace.com
DTSTAMP:20260420T132829
DTSTART:20230910T123000
DTEND:20230910T133000
SUMMARY:Starting Point
END:VEVENT
BEGIN:VEVENT
UID:032bff1e545400619c6d76291583fa95@solspace.com
DTSTAMP:20260420T132829
DTSTART:20230924T123000
DTEND:20230924T133000
SUMMARY:Starting Point
END:VEVENT
BEGIN:VEVENT
UID:fb1ce114f41ccf8f37dd3eeb1a5ee553@solspace.com
DTSTAMP:20260420T132829
DTSTART:20231008T123000
DTEND:20231008T133000
SUMMARY:Starting Point
END:VEVENT
BEGIN:VEVENT
UID:889422caeb50c08ac42514ee167330c7@solspace.com
DTSTAMP:20260420T132829
DTSTART:20231112T123000
DTEND:20231112T133000
SUMMARY:Starting Point
END:VEVENT
BEGIN:VEVENT
UID:6b7c154dc7eb447474b36858a68bc9fe@solspace.com
DTSTAMP:20260420T132829
DTSTART:20230830T190000
DTEND:20230830T200000
RRULE:FREQ=WEEKLY;UNTIL=20240515T235959Z;BYDAY=WE
EXDATE:20231115T190000,20231122T190000,20231206T190000,20231213T190000,20231220T190000,20231227T190000,20240103T190000,20240313T190000
SUMMARY:The Summit
END:VEVENT
BEGIN:VEVENT
UID:76b71a9cb541a0e71af556948fc51d87@solspace.com
DTSTAMP:20260420T132829
DTSTART:20240110T173000
DTEND:20240110T193000
RRULE:FREQ=WEEKLY;UNTIL=20240515T235959Z;BYDAY=WE
EXDATE:20240313T173000
SUMMARY:Midweek at ABC
END:VEVENT
BEGIN:VEVENT
UID:1833dd890be631e04c60c819b64f78f1@solspace.com
DTSTAMP:20260420T132829
DTSTART:20240821T173000
DTEND:20240821T200000
RRULE:FREQ=WEEKLY;UNTIL=20250514T235959Z;BYDAY=WE
EXDATE:20241120T173000,20241127T173000,20241211T173000,20241218T173000,20241225T173000,20250101T173000,20250319T173000
SUMMARY:Midweek at ABC
END:VEVENT
BEGIN:VEVENT
UID:a09da7c879ff5ca13b50398128fc6c63@solspace.com
DTSTAMP:20260420T132829
DTSTART:20240821T181500
DTEND:20240821T194500
RRULE:FREQ=WEEKLY;UNTIL=20241204T235959Z;BYDAY=WE
EXDATE:20241120T181500,20241127T181500
SUMMARY:DivorceCare
END:VEVENT
BEGIN:VEVENT
UID:dad156eea4ccccc424861b42c049a808@solspace.com
DTSTAMP:20260420T132829
DTSTART:20240821T190000
DTEND:20240821T200000
RRULE:FREQ=WEEKLY;UNTIL=20250507T235959Z;BYDAY=WE
EXDATE:20241120T190000,20241127T190000,20241211T190000,20241218T190000,20241225T190000,20250101T190000,20250219T190000,20250319T190000
SUMMARY:The Summit
END:VEVENT
BEGIN:VEVENT
UID:49c592af6181a87043dbc822a49dbf6b@solspace.com
DTSTAMP:20260420T132829
DTSTART:20250112T100000
DTEND:20250112T110000
RRULE:FREQ=MONTHLY;BYDAY=4SU
EXDATE:20251228T100000
SUMMARY:Starting Point
END:VEVENT
BEGIN:VEVENT
UID:f1adf378b10970f235c0eb53f8fe9571@solspace.com
DTSTAMP:20260420T132829
DTSTART:20250112T100000
DTEND:20250112T110000
RRULE:FREQ=MONTHLY;BYDAY=2SU
SUMMARY:Starting Point
END:VEVENT
BEGIN:VEVENT
UID:b45ca92363d74805ed9f9300daeb1731@solspace.com
DTSTAMP:20260420T132829
DTSTART:20250124T183000
DTEND:20250126T120000
SUMMARY:A Lifelong Love Marriage Conference
END:VEVENT
BEGIN:VEVENT
UID:c3396023a32d131994119e1b4a97be1c@solspace.com
DTSTAMP:20260420T132829
DTSTART:20250219T190000
DTEND:20250219T200000
SUMMARY:Meet Me At The Summit
END:VEVENT
BEGIN:VEVENT
UID:a2bfc089ee6c4d63b4d2126ebdf94b53@solspace.com
DTSTAMP:20260420T132829
DTSTART:20250329T133000
DTEND:20250329T153000
SUMMARY:Men's Racing Day
END:VEVENT
BEGIN:VEVENT
UID:ad55f228300513c23fb17788ab0117e1@solspace.com
DTSTAMP:20260420T132829
DTSTART:20250411T183000
DTEND:20250411T200000
SUMMARY:Country Swing Concert with Roy West and Band
END:VEVENT
BEGIN:VEVENT
UID:ee86684b0c27560f00fb3a0715d76fcd@solspace.com
DTSTAMP:20260420T132829
DTSTART:20250426T150000
DTEND:20250426T180000
SUMMARY:Be Complete in Christ: Singles Discipleship Conference
END:VEVENT
BEGIN:VEVENT
UID:8cfab7bff922b7825f02d7500304fef3@solspace.com
DTSTAMP:20260420T132829
DTSTART:20250514T190000
DTEND:20250514T200000
SUMMARY:Summit Summer Kickoff
END:VEVENT
BEGIN:VEVENT
UID:4898d63911bce6b0b55c3c77e715bb54@solspace.com
DTSTAMP:20260420T132829
DTSTART:20250820T173000
DTEND:20250820T200000
RRULE:FREQ=WEEKLY;UNTIL=20260513T235959Z;BYDAY=WE
EXDATE:20251119T173000,20251126T173000,20251203T173000,20251210T173000,20251217T173000,20251224T173000,20251231T173000,20260318T173000
SUMMARY:Midweek at ABC
END:VEVENT
BEGIN:VEVENT
UID:76dd8b2b0bb97df1ea28dd888f3b48b1@solspace.com
DTSTAMP:20260420T132829
DTSTART:20250820T190000
DTEND:20250820T200000
RRULE:FREQ=WEEKLY;UNTIL=20260513T235959Z;BYDAY=WE
EXDATE:20251119T190000,20251126T190000,20251203T190000,20251210T190000,20251217T190000,20251224T190000,20251231T190000,20260107T190000
SUMMARY:The Summit
END:VEVENT
BEGIN:VEVENT
UID:252bf5746ee029389a77c85bc0d939df@solspace.com
DTSTAMP:20260420T132829
DTSTART:20250910T070000
DTEND:20250910T081500
RRULE:FREQ=WEEKLY;UNTIL=20251217T235959Z;BYDAY=WE
EXDATE:20251126T070000
SUMMARY:MANUP
END:VEVENT
BEGIN:VEVENT
UID:801d9fde212d4ae7e837bcee9b8a6861@solspace.com
DTSTAMP:20260420T132829
DTSTART:20260123T190000
DTEND:20260123T213000
SUMMARY:Summit Young Adults: Austin Spurs Game
END:VEVENT
BEGIN:VEVENT
UID:53564c50600028197e455f5b7ebf060b@solspace.com
DTSTAMP:20260420T132829
DTSTART:20260416T180000
DTEND:20260416T200000
SUMMARY:Men's Steak Dinner
END:VEVENT
BEGIN:VEVENT
UID:ecb0727b5328d8dea11ee8da93f723ea@solspace.com
DTSTAMP:20260420T132829
DTSTART:20260425T090000
DTEND:20260425T123000
SUMMARY:Storytellers: Media and Communications Training Day
END:VEVENT
BEGIN:VEVENT
UID:4b5f5e17f0fee2bdc4e35b3964fa3884@solspace.com
DTSTAMP:20260420T132829
DTSTART:20270301T120000
DTEND:20270310T130000
SUMMARY:Israel Tour 2027
END:VEVENT
END:VCALENDAR